BEGIN:VCALENDAR
VERSION:2.0
PRODID:-//Cancer Lifeline - ECPv6.15.20//NONSGML v1.0//EN
CALSCALE:GREGORIAN
METHOD:PUBLISH
X-ORIGINAL-URL:https://www.cancerlifeline.info
X-WR-CALDESC:Events for Cancer Lifeline
REFRESH-INTERVAL;VALUE=DURATION:PT1H
X-Robots-Tag:noindex
X-PUBLISHED-TTL:PT1H
BEGIN:VTIMEZONE
TZID:Europe/Dublin
BEGIN:DAYLIGHT
TZOFFSETFROM:+0000
TZOFFSETTO:+0100
TZNAME:IST
DTSTART:20240331T010000
END:DAYLIGHT
BEGIN:STANDARD
TZOFFSETFROM:+0100
TZOFFSETTO:+0000
TZNAME:GMT
DTSTART:20241027T010000
END:STANDARD
BEGIN:DAYLIGHT
TZOFFSETFROM:+0000
TZOFFSETTO:+0100
TZNAME:IST
DTSTART:20250330T010000
END:DAYLIGHT
BEGIN:STANDARD
TZOFFSETFROM:+0100
TZOFFSETTO:+0000
TZNAME:GMT
DTSTART:20251026T010000
END:STANDARD
BEGIN:DAYLIGHT
TZOFFSETFROM:+0000
TZOFFSETTO:+0100
TZNAME:IST
DTSTART:20260329T010000
END:DAYLIGHT
BEGIN:STANDARD
TZOFFSETFROM:+0100
TZOFFSETTO:+0000
TZNAME:GMT
DTSTART:20261025T010000
END:STANDARD
END:VTIMEZONE
BEGIN:VEVENT
DTSTART;TZID=Europe/Dublin:20251112T140000
DTEND;TZID=Europe/Dublin:20251112T153000
DTSTAMP:20260423T203427
CREATED:20250821T204046Z
LAST-MODIFIED:20250821T204046Z
UID:2603-1762956000-1762961400@www.cancerlifeline.info
SUMMARY:Walking Group
DESCRIPTION:Going for a nice walk or a gentle stroll\, may help\, if you are experiencing poor sleep\, feel anxious etc… \nOur Walking Group walks locally in North Belfast. Once a month we organise one off trips to places of interest such as public parks across the city and others as suggested by group participants. You must attend for three weeks in a row to take part in the outings. \nThe Walking Group is led by our experienced walking leaders Liz & Richard who have both completed their Walking Leaders Course via Belfast Health & Social Care Trust (BHSCT).  Group is designed for people of all walking abilities.    Please wear comfortable footwear & clothing.
URL:https://www.cancerlifeline.info/event/walking-group-10/
LOCATION:Alliance Avenue\, 44 Alliance Avenue
CATEGORIES:Events,Group Support,Men's Event,Positive Wellbeing,Women's Event
ATTACH;FMTTYPE=image/jpeg:https://www.cancerlifeline.info/wp-content/uploads/2025/07/walking-Group-1.jpg
END:VEVENT
BEGIN:VEVENT
DTSTART;TZID=Europe/Dublin:20251105T190000
DTEND;TZID=Europe/Dublin:20251105T203000
DTSTAMP:20260423T203427
CREATED:20250821T201506Z
LAST-MODIFIED:20250821T201506Z
UID:2591-1762369200-1762374600@www.cancerlifeline.info
SUMMARY:Bereavement Group
DESCRIPTION:The loss of a loved one is life’s most stressful event and can cause major emotional crisis.  After the death of someone you love and cherish\, you will experience a whole range of emotions\, even when the death is expected.  There is no right or wrong way to grieve – but there are positive and healthy ways to cope with your loss.  Your feelings are normal and are very common reactions when someone close passes away.
URL:https://www.cancerlifeline.info/event/bereavement-group-3/
LOCATION:Alliance Avenue\, 44 Alliance Avenue
CATEGORIES:Group Support,Women's Event
ATTACH;FMTTYPE=image/jpeg:https://www.cancerlifeline.info/wp-content/uploads/2022/04/tea.jpg
END:VEVENT
BEGIN:VEVENT
DTSTART;TZID=Europe/Dublin:20251105T140000
DTEND;TZID=Europe/Dublin:20251105T153000
DTSTAMP:20260423T203427
CREATED:20250821T203932Z
LAST-MODIFIED:20250821T204001Z
UID:2601-1762351200-1762356600@www.cancerlifeline.info
SUMMARY:Walking Group
DESCRIPTION:Going for a nice walk or a gentle stroll\, may help\, if you are experiencing poor sleep\, feel anxious etc… \nOur Walking Group walks locally in North Belfast. Once a month we organise one off trips to places of interest such as public parks across the city and others as suggested by group participants. You must attend for three weeks in a row to take part in the outings. \nThe Walking Group is led by our experienced walking leaders Liz & Richard who have both completed their Walking Leaders Course via Belfast Health & Social Care Trust (BHSCT).  Group is designed for people of all walking abilities.    Please wear comfortable footwear & clothing.
URL:https://www.cancerlifeline.info/event/walking-group-9/
LOCATION:Alliance Avenue\, 44 Alliance Avenue
CATEGORIES:Events,Group Support,Men's Event,Positive Wellbeing,Women's Event
ATTACH;FMTTYPE=image/jpeg:https://www.cancerlifeline.info/wp-content/uploads/2025/07/walking-Group-1.jpg
END:VEVENT
BEGIN:VEVENT
DTSTART;TZID=Europe/Dublin:20251008T190000
DTEND;TZID=Europe/Dublin:20251008T203000
DTSTAMP:20260423T203427
CREATED:20250821T201336Z
LAST-MODIFIED:20250824T155814Z
UID:2588-1759950000-1759955400@www.cancerlifeline.info
SUMMARY:Bereavement Group
DESCRIPTION:The loss of a loved one is life’s most stressful event and can cause major emotional crisis.  After the death of someone you love and cherish\, you will experience a whole range of emotions\, even when the death is expected.  There is no right or wrong way to grieve – but there are positive and healthy ways to cope with your loss.  Your feelings are normal and are very common reactions when someone close passes away.
URL:https://www.cancerlifeline.info/event/bereavement-group-2/
LOCATION:Alliance Avenue\, 44 Alliance Avenue
CATEGORIES:Events,Group Support,Women's Event
ATTACH;FMTTYPE=image/jpeg:https://www.cancerlifeline.info/wp-content/uploads/2022/04/tea.jpg
END:VEVENT
END:VCALENDAR