BEGIN:VCALENDAR
VERSION:2.0
PRODID:-//Cancer Lifeline - ECPv6.15.20//NONSGML v1.0//EN
CALSCALE:GREGORIAN
METHOD:PUBLISH
X-ORIGINAL-URL:https://www.cancerlifeline.info
X-WR-CALDESC:Events for Cancer Lifeline
REFRESH-INTERVAL;VALUE=DURATION:PT1H
X-Robots-Tag:noindex
X-PUBLISHED-TTL:PT1H
BEGIN:VTIMEZONE
TZID:Europe/Dublin
BEGIN:DAYLIGHT
TZOFFSETFROM:+0000
TZOFFSETTO:+0100
TZNAME:IST
DTSTART:20240331T010000
END:DAYLIGHT
BEGIN:STANDARD
TZOFFSETFROM:+0100
TZOFFSETTO:+0000
TZNAME:GMT
DTSTART:20241027T010000
END:STANDARD
BEGIN:DAYLIGHT
TZOFFSETFROM:+0000
TZOFFSETTO:+0100
TZNAME:IST
DTSTART:20250330T010000
END:DAYLIGHT
BEGIN:STANDARD
TZOFFSETFROM:+0100
TZOFFSETTO:+0000
TZNAME:GMT
DTSTART:20251026T010000
END:STANDARD
BEGIN:DAYLIGHT
TZOFFSETFROM:+0000
TZOFFSETTO:+0100
TZNAME:IST
DTSTART:20260329T010000
END:DAYLIGHT
BEGIN:STANDARD
TZOFFSETFROM:+0100
TZOFFSETTO:+0000
TZNAME:GMT
DTSTART:20261025T010000
END:STANDARD
END:VTIMEZONE
BEGIN:VEVENT
DTSTART;TZID=Europe/Dublin:20251015T100000
DTEND;TZID=Europe/Dublin:20251015T120000
DTSTAMP:20260423T202210
CREATED:20250823T124034Z
LAST-MODIFIED:20250823T124111Z
UID:2653-1760522400-1760529600@www.cancerlifeline.info
SUMMARY:Coffee & Connect - Carers - Males & Females
DESCRIPTION:These Coffee and Connect mornings are an opportunity for you to meet up\, share and connect with others facing a cancer diagnosis.  They are also an opportunity to enhance your general appearance and self-image through one to one hair slots\, hair care\, wig information\, skin care etc…  The sessions will also have information stalls from a range of community\, statutory and voluntary organisations.  Having the opportunity to connect with other service providers can open up new opportunities for additional supports.  The sessions are a chance to try out new taster activities to support your wellbeing.
URL:https://www.cancerlifeline.info/event/coffee-connect-carers-males-females/
LOCATION:Alliance Avenue\, 44 Alliance Avenue
CATEGORIES:Events,Positive Wellbeing
ATTACH;FMTTYPE=image/jpeg:https://www.cancerlifeline.info/wp-content/uploads/2022/04/PXL_20220207_102820557-scaled.jpg
END:VEVENT
BEGIN:VEVENT
DTSTART;TZID=Europe/Dublin:20251013T140000
DTEND;TZID=Europe/Dublin:20251013T153000
DTSTAMP:20260423T202210
CREATED:20250821T075232Z
LAST-MODIFIED:20250824T160125Z
UID:2550-1760364000-1760369400@www.cancerlifeline.info
SUMMARY:“Get Active” - Gentle Stretching (Course 1)
DESCRIPTION:This course (lasting five weeks) will improve your physical health and wellbeing through the Take 5 Steps to Wellbeing.  They will help to improve your level of flexibility\, fitness and positive wellbeing\, supporting you to become more active.  Please wear comfortable clothing.
URL:https://www.cancerlifeline.info/event/get-active-gentle-stretching-course-1-2/
LOCATION:Alliance Avenue\, 44 Alliance Avenue
CATEGORIES:Education,Events,Group Support,Men's Event,Positive Wellbeing
ATTACH;FMTTYPE=image/jpeg:https://www.cancerlifeline.info/wp-content/uploads/2025/07/R6MF0941_brigther_wamer-1.jpg
END:VEVENT
BEGIN:VEVENT
DTSTART;TZID=Europe/Dublin:20251008T190000
DTEND;TZID=Europe/Dublin:20251008T203000
DTSTAMP:20260423T202210
CREATED:20250821T201336Z
LAST-MODIFIED:20250824T155814Z
UID:2588-1759950000-1759955400@www.cancerlifeline.info
SUMMARY:Bereavement Group
DESCRIPTION:The loss of a loved one is life’s most stressful event and can cause major emotional crisis.  After the death of someone you love and cherish\, you will experience a whole range of emotions\, even when the death is expected.  There is no right or wrong way to grieve – but there are positive and healthy ways to cope with your loss.  Your feelings are normal and are very common reactions when someone close passes away.
URL:https://www.cancerlifeline.info/event/bereavement-group-2/
LOCATION:Alliance Avenue\, 44 Alliance Avenue
CATEGORIES:Events,Group Support,Women's Event
ATTACH;FMTTYPE=image/jpeg:https://www.cancerlifeline.info/wp-content/uploads/2022/04/tea.jpg
END:VEVENT
BEGIN:VEVENT
DTSTART;TZID=Europe/Dublin:20251008T140000
DTEND;TZID=Europe/Dublin:20251008T153000
DTSTAMP:20260423T202210
CREATED:20250821T073523Z
LAST-MODIFIED:20250821T073523Z
UID:2536-1759932000-1759937400@www.cancerlifeline.info
SUMMARY:Walking Group
DESCRIPTION:Going for a nice walk or a gentle stroll\, may help\, if you are experiencing poor sleep\, feel anxious etc… \nOur Walking Group walks locally in North Belfast. Once a month we organise one off trips to places of interest such as public parks across the city and others as suggested by group participants. You must attend for three weeks in a row to take part in the outings. \nThe Walking Group is led by our experienced walking leaders Liz & Richard who have both completed their Walking Leaders Course via Belfast Health & Social Care Trust (BHSCT).  Group is designed for people of all walking abilities.    Please wear comfortable footwear & clothing.
URL:https://www.cancerlifeline.info/event/walking-group-5/
LOCATION:Alliance Avenue\, 44 Alliance Avenue
CATEGORIES:Events,Group Support,Positive Wellbeing
ATTACH;FMTTYPE=image/jpeg:https://www.cancerlifeline.info/wp-content/uploads/2025/07/walking-Group-1.jpg
END:VEVENT
BEGIN:VEVENT
DTSTART;TZID=Europe/Dublin:20251008T103000
DTEND;TZID=Europe/Dublin:20251008T113000
DTSTAMP:20260423T202210
CREATED:20250821T181105Z
LAST-MODIFIED:20250824T155608Z
UID:2572-1759919400-1759923000@www.cancerlifeline.info
SUMMARY:Men’s Den (Mug Meet up)
DESCRIPTION:Come to the Men’s Den\, get a cuppa and have a chat.
URL:https://www.cancerlifeline.info/event/mens-den-mug-meet-up-3/
LOCATION:Men’s Den\, 44 Alliance Avenue
CATEGORIES:Events,Men's Event
ATTACH;FMTTYPE=image/jpeg:https://www.cancerlifeline.info/wp-content/uploads/2025/08/shed_side-1-scaled.jpg
END:VEVENT
BEGIN:VEVENT
DTSTART;TZID=Europe/Dublin:20251006T140000
DTEND;TZID=Europe/Dublin:20251006T153000
DTSTAMP:20260423T202210
CREATED:20250821T075123Z
LAST-MODIFIED:20250824T155427Z
UID:2548-1759759200-1759764600@www.cancerlifeline.info
SUMMARY:“Get Active” - Gentle Stretching (Course 1)
DESCRIPTION:This course (lasting five weeks) will improve your physical health and wellbeing through the Take 5 Steps to Wellbeing.  They will help to improve your level of flexibility\, fitness and positive wellbeing\, supporting you to become more active.  Please wear comfortable clothing.
URL:https://www.cancerlifeline.info/event/get-active-gentle-stretching-course-1/
LOCATION:Alliance Avenue\, 44 Alliance Avenue
CATEGORIES:Education,Events,Group Support,Men's Event,Positive Wellbeing
ATTACH;FMTTYPE=image/jpeg:https://www.cancerlifeline.info/wp-content/uploads/2025/07/R6MF0941_brigther_wamer-1.jpg
END:VEVENT
BEGIN:VEVENT
DTSTART;TZID=Europe/Dublin:20251003T103000
DTEND;TZID=Europe/Dublin:20251003T120000
DTSTAMP:20260423T202210
CREATED:20250821T074517Z
LAST-MODIFIED:20250821T074517Z
UID:2544-1759487400-1759492800@www.cancerlifeline.info
SUMMARY:“Take 5” Information Session
DESCRIPTION:Justine Brown\, Health & Wellbeing Worker for North Belfast (BHSCT) will kick off our Take 5 Programme on Friday 3rd October 2025\, 10.30am – 12.00pm in Cancer Lifeline.  During this session Justine will help you to get to grips with Take 5 as a wellbeing tool\, which will contribute to improving your wellbeing in its fullest sense (physically & emotionally) supporting and assisting you to function well.  Come along and hear more about the Take 5 Steps and what this could mean for you.  Learn how to integrate the 5 steps into your daily life.  Don’t forget to register with the office on 02890 351999
URL:https://www.cancerlifeline.info/event/take-5-information-session/
LOCATION:Alliance Avenue\, 44 Alliance Avenue
CATEGORIES:Education,Events,Positive Wellbeing
ATTACH;FMTTYPE=image/jpeg:https://www.cancerlifeline.info/wp-content/uploads/2025/08/take-5-steps-banner.jpg
END:VEVENT
BEGIN:VEVENT
DTSTART;TZID=Europe/Dublin:20251001T140000
DTEND;TZID=Europe/Dublin:20251001T153000
DTSTAMP:20260423T202210
CREATED:20250821T073434Z
LAST-MODIFIED:20250821T073434Z
UID:2534-1759327200-1759332600@www.cancerlifeline.info
SUMMARY:Walking Group
DESCRIPTION:Going for a nice walk or a gentle stroll\, may help\, if you are experiencing poor sleep\, feel anxious etc… \nOur Walking Group walks locally in North Belfast. Once a month we organise one off trips to places of interest such as public parks across the city and others as suggested by group participants. You must attend for three weeks in a row to take part in the outings. \nThe Walking Group is led by our experienced walking leaders Liz & Richard who have both completed their Walking Leaders Course via Belfast Health & Social Care Trust (BHSCT).  Group is designed for people of all walking abilities.    Please wear comfortable footwear & clothing.
URL:https://www.cancerlifeline.info/event/walking-group-4/
LOCATION:Alliance Avenue\, 44 Alliance Avenue
CATEGORIES:Events,Group Support,Positive Wellbeing
ATTACH;FMTTYPE=image/jpeg:https://www.cancerlifeline.info/wp-content/uploads/2025/07/walking-Group-1.jpg
END:VEVENT
BEGIN:VEVENT
DTSTART;VALUE=DATE:20251001
DTEND;VALUE=DATE:20251002
DTSTAMP:20260423T202210
CREATED:20250821T072750Z
LAST-MODIFIED:20250823T144823Z
UID:2527-1759276800-1759363199@www.cancerlifeline.info
SUMMARY:Men’s Den (Visit to Hive Project)
DESCRIPTION:The Men’s Den will be traveling to the HIVE project in Derry/Londonderry to visit the GAS Yard. \nWe will be leaving in the morning – for further details contact the Cancer Lifeline office on 02890 351 999.
URL:https://www.cancerlifeline.info/event/mens-den-visit-to-hive-project/
LOCATION:GAS Yard Derry/Londonderry
CATEGORIES:Events,Men's Event
ATTACH;FMTTYPE=image/jpeg:https://www.cancerlifeline.info/wp-content/uploads/2025/08/hive_derry.jpg
END:VEVENT
BEGIN:VEVENT
DTSTART;TZID=Europe/Dublin:20250925T110000
DTEND;TZID=Europe/Dublin:20250925T123000
DTSTAMP:20260423T202210
CREATED:20250721T043920Z
LAST-MODIFIED:20250721T044043Z
UID:2398-1758798000-1758803400@www.cancerlifeline.info
SUMMARY:Yoga and Meditation (Level 2)
DESCRIPTION:Yoga helps to keep our bodies\, mind and spirit in good health.  Yoga supports the body to get back its strength and flexibility after illness.  \nThese six week classes include gentle stretching of the body\, applying proper breathing techniques and deep relaxation to enhance more flexibility and calmness of mind.  By the end of the 6 weeks you will feel noticeably different for taking the time to look after your own wellbeing and recovery.  Please wear comfortable clothing.
URL:https://www.cancerlifeline.info/event/yoga-and-meditation-level-2-4/
LOCATION:Alliance Avenue\, 44 Alliance Avenue
CATEGORIES:Events,Positive Wellbeing
ATTACH;FMTTYPE=image/jpeg:https://www.cancerlifeline.info/wp-content/uploads/2023/09/positive_wellbeing_prog-scaled.jpg
END:VEVENT
BEGIN:VEVENT
DTSTART;TZID=Europe/Dublin:20250924T140000
DTEND;TZID=Europe/Dublin:20250924T153000
DTSTAMP:20260423T202210
CREATED:20250721T073335Z
LAST-MODIFIED:20250721T075254Z
UID:2435-1758722400-1758727800@www.cancerlifeline.info
SUMMARY:Walking Group
DESCRIPTION:Going for a nice walk or a gentle stroll\, may help\, if you are experiencing poor sleep\, feel anxious etc… \nOur Walking Group walks locally in North Belfast. Once a month we organise one off trips to places of interest such as public parks across the city and others as suggested by group participants. You must attend for three weeks in a row to take part in the outings. \nThe Walking Group is led by our experienced walking leaders Liz & Richard who have both completed their Walking Leaders Course via Belfast Health & Social Care Trust (BHSCT).  Group is designed for people of all walking abilities.    Please wear comfortable footwear & clothing.
URL:https://www.cancerlifeline.info/event/walking-group-3/
LOCATION:Alliance Avenue\, 44 Alliance Avenue
CATEGORIES:Events,Group Support,Positive Wellbeing
ATTACH;FMTTYPE=image/jpeg:https://www.cancerlifeline.info/wp-content/uploads/2025/07/walking-Group-1.jpg
END:VEVENT
BEGIN:VEVENT
DTSTART;TZID=Europe/Dublin:20250924T103000
DTEND;TZID=Europe/Dublin:20250924T113000
DTSTAMP:20260423T202210
CREATED:20250721T082504Z
LAST-MODIFIED:20250721T082504Z
UID:2449-1758709800-1758713400@www.cancerlifeline.info
SUMMARY:Men's Den - Bowling
DESCRIPTION:This session at the Men’s Den will be a trip out to go bowling.
URL:https://www.cancerlifeline.info/event/mens-den-bowling/
LOCATION:Men’s Den\, 44 Alliance Avenue
CATEGORIES:Events,Group Support
ATTACH;FMTTYPE=image/jpeg:https://www.cancerlifeline.info/wp-content/uploads/2025/07/musician_laughing-1-1.jpg
END:VEVENT
BEGIN:VEVENT
DTSTART;TZID=Europe/Dublin:20250918T110000
DTEND;TZID=Europe/Dublin:20250918T123000
DTSTAMP:20260423T202210
CREATED:20250721T043850Z
LAST-MODIFIED:20250721T044149Z
UID:2396-1758193200-1758198600@www.cancerlifeline.info
SUMMARY:Yoga and Meditation (Level 2)
DESCRIPTION:Yoga helps to keep our bodies\, mind and spirit in good health.  Yoga supports the body to get back its strength and flexibility after illness.  \nThese six week classes include gentle stretching of the body\, applying proper breathing techniques and deep relaxation to enhance more flexibility and calmness of mind.  By the end of the 6 weeks you will feel noticeably different for taking the time to look after your own wellbeing and recovery.  Please wear comfortable clothing.
URL:https://www.cancerlifeline.info/event/yoga-and-meditation-level-2-3/
LOCATION:Alliance Avenue\, 44 Alliance Avenue
CATEGORIES:Events,Positive Wellbeing
ATTACH;FMTTYPE=image/jpeg:https://www.cancerlifeline.info/wp-content/uploads/2025/07/R6MF0941_brigther_wamer-1.jpg
END:VEVENT
BEGIN:VEVENT
DTSTART;TZID=Europe/Dublin:20250917T190000
DTEND;TZID=Europe/Dublin:20250917T203000
DTSTAMP:20260423T202210
CREATED:20250721T081225Z
LAST-MODIFIED:20250721T081225Z
UID:2447-1758135600-1758141000@www.cancerlifeline.info
SUMMARY:Female Support Group
DESCRIPTION:This is an opportunity to meet up with other women living with cancer. “The Support Group has helped me to meet other women in the same situation as myself. We were able to chat about our circumstances and get support from each other.” \nHelping to connect with other women who have been through a similar diagnosis can be helpful and supportive. The group is a chance to talk openly and safely about your fears\, worries and concerns with other women facing a cancer diagnosis.
URL:https://www.cancerlifeline.info/event/female-support-group/
LOCATION:Alliance Avenue\, 44 Alliance Avenue
CATEGORIES:Events,Group Support
ATTACH;FMTTYPE=image/jpeg:https://www.cancerlifeline.info/wp-content/uploads/2025/04/R6MF6850-scaled.jpg
END:VEVENT
BEGIN:VEVENT
DTSTART;TZID=Europe/Dublin:20250917T103000
DTEND;TZID=Europe/Dublin:20250917T113000
DTSTAMP:20260423T202210
CREATED:20250721T080946Z
LAST-MODIFIED:20250721T080946Z
UID:2445-1758105000-1758108600@www.cancerlifeline.info
SUMMARY:Men's Den - Mug Meet Up
DESCRIPTION:Mug Meet Ups are drop in mornings where you can grab a cuppa and a chat .
URL:https://www.cancerlifeline.info/event/mens-den-mug-meet-up-2/
LOCATION:Men’s Den\, 44 Alliance Avenue
CATEGORIES:Events,Group Support
ATTACH;FMTTYPE=image/jpeg:https://www.cancerlifeline.info/wp-content/uploads/2025/04/BlueTopTalking-1-scaled.jpg
END:VEVENT
BEGIN:VEVENT
DTSTART;TZID=Europe/Dublin:20250916T140000
DTEND;TZID=Europe/Dublin:20250916T153000
DTSTAMP:20260423T202210
CREATED:20250721T080532Z
LAST-MODIFIED:20250721T080532Z
UID:2442-1758031200-1758036600@www.cancerlifeline.info
SUMMARY:Fatigue Management Programme
DESCRIPTION:Fatigue is a feeling of tiredness and lack of energy that everyone will experience at some time during and / or after a cancer diagnosis and its treatments. \nThe effects of Fatigue will be different for everyone but can cause great difficulty with doing everyday activities that are important to us. Fatigue can make you feel frustrated\, overwhelmed\, and depressed. Fatigue is also now known to be one of the long-term side effects of Covid-19\, which is affecting so many of us now too. \nIn this session you will hear from other people who are maybe experiencing the same feelings and symptoms as you. It will help you to understand the causes of fatigue and will provide some useful advice\, tips\, and techniques to help you to start to overcome fatigue. Begin to make positive changes to your energy levels\, mood\, wellbeing\, and quality of life.
URL:https://www.cancerlifeline.info/event/fatigue-management-programme/
LOCATION:Alliance Avenue\, 44 Alliance Avenue
CATEGORIES:Education,Events,Positive Wellbeing
ATTACH;FMTTYPE=image/jpeg:https://www.cancerlifeline.info/wp-content/uploads/2022/04/PXL_20220207_100803528-scaled.jpg
END:VEVENT
BEGIN:VEVENT
DTSTART;TZID=Europe/Dublin:20250911T110000
DTEND;TZID=Europe/Dublin:20250911T123000
DTSTAMP:20260423T202210
CREATED:20250721T043709Z
LAST-MODIFIED:20250721T044239Z
UID:2394-1757588400-1757593800@www.cancerlifeline.info
SUMMARY:Yoga and Meditation (Level 2)
DESCRIPTION:Yoga helps to keep our bodies\, mind and spirit in good health.  Yoga supports the body to get back its strength and flexibility after illness.  \nThese six week classes include gentle stretching of the body\, applying proper breathing techniques and deep relaxation to enhance more flexibility and calmness of mind.  By the end of the 6 weeks you will feel noticeably different for taking the time to look after your own wellbeing and recovery.  Please wear comfortable clothing.
URL:https://www.cancerlifeline.info/event/yoga-and-meditation-level-2-2/
LOCATION:Alliance Avenue\, 44 Alliance Avenue
CATEGORIES:Events,Positive Wellbeing
ATTACH;FMTTYPE=image/jpeg:https://www.cancerlifeline.info/wp-content/uploads/2023/09/yoga_2-scaled.jpg
END:VEVENT
BEGIN:VEVENT
DTSTART;TZID=Europe/Dublin:20250910T190000
DTEND;TZID=Europe/Dublin:20250910T203000
DTSTAMP:20260423T202210
CREATED:20250721T080132Z
LAST-MODIFIED:20250721T080132Z
UID:2440-1757530800-1757536200@www.cancerlifeline.info
SUMMARY:Bereavement Group
DESCRIPTION:The loss of a loved one is life’s most stressful event and can cause major emotional crisis. \nAfter the death of someone you love and cherish\, you will experience a whole range of emotions\, even when the death is expected.  There is no right or wrong way to grieve – but there are positive and healthy ways to cope with your loss.  Your feelings are normal and are very common reactions when someone close passes away.
URL:https://www.cancerlifeline.info/event/bereavement-group/
LOCATION:Alliance Avenue\, 44 Alliance Avenue
CATEGORIES:Events,Group Support
ATTACH;FMTTYPE=image/jpeg:https://www.cancerlifeline.info/wp-content/uploads/2022/04/PXL_20220207_102417300-scaled.jpg
END:VEVENT
BEGIN:VEVENT
DTSTART;TZID=Europe/Dublin:20250910T140000
DTEND;TZID=Europe/Dublin:20250910T153000
DTSTAMP:20260423T202210
CREATED:20250721T073235Z
LAST-MODIFIED:20250721T073235Z
UID:2433-1757512800-1757518200@www.cancerlifeline.info
SUMMARY:Walking Group
DESCRIPTION:Going for a nice walk or a gentle stroll\, may help\, if you are experiencing poor sleep\, feel anxious etc… \nOur Walking Group walks locally in North Belfast. Once a month we organise one off trips to places of interest such as public parks across the city and others as suggested by group participants. You must attend for three weeks in a row to take part in the outings. \nThe Walking Group is led by our experienced walking leaders Liz & Richard who have both completed their Walking Leaders Course via Belfast Health & Social Care Trust (BHSCT).  Group is designed for people of all walking abilities.    Please wear comfortable footwear & clothing.
URL:https://www.cancerlifeline.info/event/walking-group-2/
LOCATION:Alliance Avenue\, 44 Alliance Avenue
CATEGORIES:Events,Group Support,Positive Wellbeing
ATTACH;FMTTYPE=image/jpeg:https://www.cancerlifeline.info/wp-content/uploads/2025/07/walking-Group-1.jpg
END:VEVENT
BEGIN:VEVENT
DTSTART;TZID=Europe/Dublin:20250910T080000
DTEND;TZID=Europe/Dublin:20250910T170000
DTSTAMP:20260423T202210
CREATED:20250721T075621Z
LAST-MODIFIED:20250721T075621Z
UID:2438-1757491200-1757523600@www.cancerlifeline.info
SUMMARY:Men's Den - Breakfast Bites
DESCRIPTION:For this Breakfast Bites session we will have a Cancer Prevention Health Awareness Session.
URL:https://www.cancerlifeline.info/event/mens-den-breakfast-bites/
LOCATION:Men’s Den\, 44 Alliance Avenue
CATEGORIES:Education,Events,Group Support
ATTACH;FMTTYPE=image/jpeg:https://www.cancerlifeline.info/wp-content/uploads/2025/04/BlueTopTalking-1-scaled.jpg
END:VEVENT
BEGIN:VEVENT
DTSTART;TZID=Europe/Dublin:20250909T103000
DTEND;TZID=Europe/Dublin:20250909T123000
DTSTAMP:20260423T202210
CREATED:20250721T072714Z
LAST-MODIFIED:20250721T072714Z
UID:2430-1757413800-1757421000@www.cancerlifeline.info
SUMMARY:Vital Nutrition For Living Well
DESCRIPTION:Are you confused about nutrition?  Do you want to make some changes to your diet\, but don’t know where to start?  \nIf you are looking for simple and straightforward ways to make positive changes to  your diet\, then our nutritionist Jane McClenaghan is here to help you make sense of healthy eating.  Jane will help you to set realistic and achievable goals and guide you on the best foods to add to your shopping basket.
URL:https://www.cancerlifeline.info/event/vital-nutrition-for-living-well/
LOCATION:Alliance Avenue\, 44 Alliance Avenue
CATEGORIES:Education,Events,Positive Wellbeing
ATTACH;FMTTYPE=image/jpeg:https://www.cancerlifeline.info/wp-content/uploads/2025/07/vital_nutrition-1.jpg
END:VEVENT
BEGIN:VEVENT
DTSTART;TZID=Europe/Dublin:20250904T110000
DTEND;TZID=Europe/Dublin:20250904T123000
DTSTAMP:20260423T202210
CREATED:20250721T043620Z
LAST-MODIFIED:20250721T044342Z
UID:2385-1756983600-1756989000@www.cancerlifeline.info
SUMMARY:Yoga and Meditation (Level 2)
DESCRIPTION:Yoga helps to keep our bodies\, mind and spirit in good health.  Yoga supports the body to get back its strength and flexibility after illness.  \nThese six week classes include gentle stretching of the body\, applying proper breathing techniques and deep relaxation to enhance more flexibility and calmness of mind.  By the end of the 6 weeks you will feel noticeably different for taking the time to look after your own wellbeing and recovery.  Please wear comfortable clothing.
URL:https://www.cancerlifeline.info/event/yoga-and-meditation-level-2/
LOCATION:Alliance Avenue\, 44 Alliance Avenue
CATEGORIES:Events,Positive Wellbeing
ATTACH;FMTTYPE=image/jpeg:https://www.cancerlifeline.info/wp-content/uploads/2023/09/positive_wellbeing_prog-scaled.jpg
END:VEVENT
BEGIN:VEVENT
DTSTART;TZID=Europe/Dublin:20250903T140000
DTEND;TZID=Europe/Dublin:20250903T153000
DTSTAMP:20260423T202210
CREATED:20250719T100154Z
LAST-MODIFIED:20250721T073056Z
UID:2369-1756908000-1756913400@www.cancerlifeline.info
SUMMARY:Walking Group
DESCRIPTION:Going for a nice walk or a gentle stroll\, may help\, if you are experiencing poor sleep\, feel anxious etc… \nOur Walking Group walks locally in North Belfast. Once a month we organise one off trips to places of interest such as public parks across the city and others as suggested by group participants. You must attend for three weeks in a row to take part in the outings. \nThe Walking Group is led by our experienced walking leaders Liz & Richard who have both completed their Walking Leaders Course via Belfast Health & Social Care Trust (BHSCT).  Group is designed for people of all walking abilities.    Please wear comfortable footwear & clothing.
URL:https://www.cancerlifeline.info/event/walking-group/
LOCATION:Alliance Avenue\, 44 Alliance Avenue
CATEGORIES:Events,Group Support,Positive Wellbeing
ATTACH;FMTTYPE=image/jpeg:https://www.cancerlifeline.info/wp-content/uploads/2025/07/walking-Group-1.jpg
END:VEVENT
BEGIN:VEVENT
DTSTART;TZID=Europe/Dublin:20250903T103000
DTEND;TZID=Europe/Dublin:20250903T113000
DTSTAMP:20260423T202210
CREATED:20250719T095952Z
LAST-MODIFIED:20250824T154947Z
UID:2366-1756895400-1756899000@www.cancerlifeline.info
SUMMARY:Men's Den Mug Meet Up
DESCRIPTION:
URL:https://www.cancerlifeline.info/event/mens-den-mug-meet-up/
LOCATION:Men’s Den\, 44 Alliance Avenue
CATEGORIES:Events,Group Support
ATTACH;FMTTYPE=image/jpeg:https://www.cancerlifeline.info/wp-content/uploads/2025/04/men_in_den2.jpg
END:VEVENT
END:VCALENDAR